BEGIN:VCALENDAR
PRODID:-//hacksw/handcal//NONSGML v1.0//EN
VERSION:2.0
METHOD:PUBLISH
BEGIN:VEVENT
DTSTART:20160419T213000Z
DTEND:20160420T000000Z
LOCATION:Marriott Fairview Park | 3111 Fairview Park Dr., Falls Church, VA 22042
UID:1291920160419T213000ZCoping With Dysfunction: How We Are Trying to Navigate Through a Political Process Gone Wild | Joint Council Meeting Hosted by Northern Virginia Estate Planning Council
DTSTAMP:20260421T184719Z
DESCRIPTION:\n \n \nProgram Description:\n \nJoin your colleagues for the annual Joint Council meeting hosted by the Northern Virginia Estate Planning Council.\n \nNorman Ornstein will talk about the presidential campaign through the twin lenses of angry populism and partisan tribalism:\n How and why the GOP race came down effectively to Donald Trump and Ted Cruz (with John Kasich still, if barely, standing) Why Bernie Sanders has emerged as he has How this fits with the broader context of tribal politics in Congress What all of this means for policy \nSpeaker Biography: \n \nNorman Ornstein is a long-time observer of Congress and politics. He is a contributing editor and columnist for National Journal and The Atlantic and is an election eve analyst for BBC News. He served as co-director of the AEI-Brookings Election Reform Project and participates in AEI’s Election Watch series. He also served as a senior counselor to the Continuity of Government Commission. Mr. Ornstein led a working group of scholars and practitioners that helped shape the law, known as McCain-Feingold, that reformed the campaign financing system. He was elected as a fellow of the American Academy of Arts and Sciences in 2004.\n \nHis many books include The Permanent Campaign and Its Future, The Broken Branch: How Congress Is Failing America and How to Get It Back on Track, with Thomas E. Mann (named by the Washington Post one of the best books of 2006 and called by The Economist “a classic”); and, most recently, the New York Times bestseller, It’s Even Worse Than It Looks: How the American Constitutional System Collided With the New Politics of Extremism, also with Tom Mann, published in May 2012. It was named as one of 2012’s best books on politics byThe New Yorker and one of the best books of the year by the Washington Post. \n \nLogistics: \n Cost: $75 for members and guests (includes one drink ticket) Reception with heavy hors d'oeuvres follows the program Guests warmly welcome when accompanied by a member Free parking at the hotel
SUMMARY:Coping With Dysfunction: How We Are Trying to Navigate Through a Political Process Gone Wild | Joint Council Meeting Hosted by Northern Virginia Estate Planning Council - EPC of Montgomery County Maryland, Inc. 
PRIORITY:3
BEGIN:VALARM
TRIGGER:PT18H
ACTION:DISPLAY
DESCRIPTION:Reminder
END:VALARM
END:VEVENT
END:VCALENDAR