BEGIN:VCALENDAR
PRODID:-//hacksw/handcal//NONSGML v1.0//EN
VERSION:2.0
METHOD:PUBLISH
BEGIN:VEVENT
DTSTART:20260422T213000Z
DTEND:20260422T233000Z
LOCATION:The Salt Line - 7284 Woodmont Ave, Bethesda, Maryland 20814
UID:2812720260422T213000ZNetworking Happy Hour
DTSTAMP:20260421T202444Z
DESCRIPTION:\nJoin your EPCMOCO friends and colleagues for a fun and engaging networking happy hour. Take advantage of this opportunity to reconnect with familiar faces, meet new colleagues, and continue building your professional network.\n \nIn addition to members, qualified prospective members are welcome to attend.\n \nEnjoy beverages and happy hour fare as you mix and mingle. \n \nSponsored by: \n \n\n \n \n \n \n \n \n
SUMMARY:Networking Happy Hour - EPC of Montgomery County Maryland, Inc. 
PRIORITY:3
BEGIN:VALARM
TRIGGER:PT18H
ACTION:DISPLAY
DESCRIPTION:Reminder
END:VALARM
END:VEVENT
END:VCALENDAR