BEGIN:VCALENDAR
PRODID:-//hacksw/handcal//NONSGML v1.0//EN
VERSION:2.0
METHOD:PUBLISH
BEGIN:VEVENT
DTSTART:20260611T213000Z
DTEND:20260611T233000Z
LOCATION:
UID:2813320260611T213000ZNetworking Happy Hour and Bourbon Tasting
DTSTAMP:20260423T090926Z
DESCRIPTION:\nMore details to follow.\n
SUMMARY:Networking Happy Hour and Bourbon Tasting - EPC of Montgomery County Maryland, Inc. 
PRIORITY:3
BEGIN:VALARM
TRIGGER:PT18H
ACTION:DISPLAY
DESCRIPTION:Reminder
END:VALARM
END:VEVENT
END:VCALENDAR